BEGIN:VCALENDAR
VERSION:2.0
PRODID:icalendar-ruby
CALSCALE:GREGORIAN
METHOD:PUBLISH
BEGIN:VTIMEZONE
TZID:Australia/Melbourne
BEGIN:DAYLIGHT
DTSTART:20261004T030000
TZOFFSETFROM:+1000
TZOFFSETTO:+1100
RRULE:FREQ=YEARLY;BYDAY=1SU;BYMONTH=10
TZNAME:AEDT
END:DAYLIGHT
BEGIN:STANDARD
DTSTART:20260405T020000
TZOFFSETFROM:+1100
TZOFFSETTO:+1000
RRULE:FREQ=YEARLY;BYDAY=1SU;BYMONTH=4
TZNAME:AEST
END:STANDARD
END:VTIMEZONE
BEGIN:VEVENT
DTSTAMP:20260423T042921Z
UID:inspection_3010773
DTSTART;TZID=Australia/Melbourne:20260429T120000
DTEND;TZID=Australia/Melbourne:20260429T121000
CLASS:PUBLIC
CREATED:20260423T110959
DESCRIPTION: 
LAST-MODIFIED:20260423T110959
LOCATION:201 / 41 Peel Street\, COLLINGWOOD VIC 3066\, Australia
SUMMARY:201 / 41 Peel Street\,  Inspection
URL;VALUE=URI:http://www.handbrealestate.com.au/
END:VEVENT
END:VCALENDAR
